Workbook

Sheet 封面
A1: 禄劝彝族苗族自治县
A3: 2022年度地方财政收支预算调整（草案）
A7: 人大批准时间：2022年12月29日
A11: 政府通过时间：2022年12月25日
A15: 财政局编制时间：2022年12月11日
A19: 编制机关：禄劝彝族苗族自治县财政局 | H19: 负责人:武 勇 | L19: 编表人：李兴武

Sheet 附件1 一般公共预算收入调整表 
A1: 附件1
A2: 2022年一般公共预算收入调整表
G3: 单位：万元
A4: 科目编码 | B4: 项 目 | C4: 年初预算 | D4: 预计增加 | E4: 预计减少 | F4: 净增加 | G4: 预计年度完成数
A6: 收入总计 | C6: =SUM(C7,C29) -> 299372 | D6: =SUM(D7,D29) -> 235550 | E6: =SUM(E7,E29) -> 165821 | F6: =SUM(F7,F29) -> 69729 | G6: =SUM(G7,G29) -> 369101
A7: 一、地方一般公共预算收入合计 | C7: =SUM(C8,C23) -> 53960 | D7: =SUM(D8,D23) -> 11519 | E7: =SUM(E8,E23) -> 85979 | F7: =SUM(F8,F23) -> -74460 | G7: =SUM(G8,G23) -> -20500
A8: （一） | B8: 税收收入 | C8: =SUM(C9:C22) -> 41960 | D8: =SUM(D9:D22) -> 4595 | E8: =SUM(E9:E22) -> 85255 | F8: =SUM(F9:F22) -> -80660 | G8: =SUM(G9:G22) -> -38700
A9: 1 | B9: 增值税 | C9: 20710 | E9: 81610 | F9: =D9-E9 -> -81610 | G9: =C9+F9 -> -60900
A10: 2 | B10: 企业所得税 | C10: 1168 | D10: 212 | F10: =D10-E10 -> 212 | G10: =C10+F10 -> 1380
A11: 3 | B11: 个人所得税 | C11: 512 | E11: 22 | F11: =D11-E11 -> -22 | G11: =C11+F11 -> 490
A12: 4 | B12: 资源税 | C12: 1300 | E12: 1070 | F12: =D12-E12 -> -1070 | G12: =C12+F12 -> 230
A13: 5 | B13: 城市维护建设税 | C13: 1400 | E13: 100 | F13: =D13-E13 -> -100 | G13: =C13+F13 -> 1300
A14: 6 | B14: 房产税 | C14: 1060 | E14: 110 | F14: =D14-E14 -> -110 | G14: =C14+F14 -> 950
A15: 7 | B15: 印花税 | C15: 600 | E15: 340 | F15: =D15-E15 -> -340 | G15: =C15+F15 -> 260
A16: 8 | B16: 城镇土地使用税 | C16: 1500 | D16: 180 | F16: =D16-E16 -> 180 | G16: =C16+F16 -> 1680
A17: 9 | B17: 土地增值税 | C17: 1000 | D17: 2858 | F17: =D17-E17 -> 2858 | G17: =C17+F17 -> 3858
A18: 10 | B18: 车船税 | C18: 300 | D18: 800 | F18: =D18-E18 -> 800 | G18: =C18+F18 -> 1100
A19: 11 | B19: 耕地占用税 | C19: 1260 | E19: 1023 | F19: =D19-E19 -> -1023 | G19: =C19+F19 -> 237
A20: 12 | B20: 契税 | C20: 2800 | E20: 800 | F20: =D20-E20 -> -800 | G20: =C20+F20 -> 2000
A21: 13 | B21: 烟叶税 | C21: 8000 | D21: 545 | F21: =D21-E21 -> 545 | G21: =C21+F21 -> 8545
A22: 14 | B22: 环境保护税 | C22: 350 | E22: 180 | F22: =D22-E22 -> -180 | G22: =C22+F22 -> 170
A23: （二） | B23: 非税收入 | C23: =SUM(C24:C28) -> 12000 | D23: =SUM(D24:D28) -> 6924 | E23: =SUM(E24:E28) -> 724 | F23: =SUM(F24:F28) -> 6200 | G23: =SUM(G24:G28) -> 18200
A24: 1 | B24: 专项收入 | C24: 3264 | E24: 724 | F24: =D24-E24 -> -724 | G24: =C24+F24 -> 2540
A25: 2 | B25: 行政事业性收费收入 | C25: 1035 | D25: 2245 | F25: =D25-E25 -> 2245 | G25: =C25+F25 -> 3280
A26: 3 | B26: 罚没收入 | C26: 2568 | D26: 552 | F26: =D26-E26 -> 552 | G26: =C26+F26 -> 3120
A27: 4 | B27: 国有资源（资产）有偿使用收入 | C27: 5133 | D27: 3167 | F27: =D27-E27 -> 3167 | G27: =C27+F27 -> 8300
A28: 5 | B28: 其他收入 | C28: 0 | D28: 960 | F28: =D28-E28 -> 960 | G28: =C28+F28 -> 960
A29: 二、转移性收入 | C29: =SUM(C30,C79,C80,C88,C89) -> 245412 | D29: =SUM(D30,D79,D80,D88,D89) -> 224031 | E29: =SUM(E30,E79,E80,E88,E89) -> 79842 | F29: =SUM(F30,F79,F80,F88,F89) -> 144189 | G29: =SUM(G30,G79,G80,G88,G89) -> 389601
A30: （一） | B30: 上级补助收入 | C30: =SUM(C31,C36,C61) -> 176765 | D30: =SUM(D31,D36,D61) -> 144339 | E30: =SUM(E31,E36,E61) -> 13195 | F30: =SUM(F31,F36,F61) -> 131144 | G30: =SUM(G31,G36,G61) -> 307909
A31: 1 | B31: 返还性收入 | C31: =SUM(C32:C35) -> 11020 | D31: =SUM(D32:D35) -> 0 | E31: =SUM(E32:E35) -> 1000 | F31: =SUM(F32:F35) -> -1000 | G31: =SUM(G32:G35) -> 10020
B32: (1)所得税基数返还收入 | C32: -60 | F32: =D32-E32 -> 0 | G32: =C32+F32 -> -60
B33: (2)增值税税收返还收入 | C33: 2084 | E33: 500 | F33: =D33-E33 -> -500 | G33: =C33+F33 -> 1584
B34: (3)增值税“五五分享”税收返还收入 | C34: 8996 | E34: 500 | F34: =D34-E34 -> -500 | G34: =C34+F34 -> 8496
B35: (4)其他返还性收入 | C35: 0 | F35: =D35-E35 -> 0 | G35: =C35+F35 -> 0
A36: 2 | B36: 一般性转移支付收入 | C36: =SUM(C37:C60) -> 161231 | D36: =SUM(D37:D60) -> 88995 | E36: =SUM(E37:E60) -> 7681 | F36: =SUM(F37:F60) -> 81314 | G36: =SUM(G37:G60) -> 242545
B37: (1)均衡性转移支付收入 | C37: 47072 | D37: =2784+191 -> 2975 | F37: =D37-E37 -> 2975 | G37: =C37+F37 -> 50047
B38: (2)县级基本财力保障机制奖补资金收入 | C38: 20468 | F38: =D38-E38 -> 0 | G38: =C38+F38 -> 20468
B39: (3)结算补助收入 | C39: 4946 | D39: =716+10697 -> 11413 | F39: =D39-E39 -> 11413 | G39: =C39+F39 -> 16359
B40: (4)企业事业单位划转补助收入 | C40: 1466 | E40: 285 | F40: =D40-E40 -> -285 | G40: =C40+F40 -> 1181
B41: (5)产粮（油）大县奖励资金收入 | C41: 1571 | F41: =D41-E41 -> 0 | G41: =C41+F41 -> 1571
...

Sheet 附件2 一般公共预算支出调整表
A1: 附件2-1
A2: 2022年一般公共预算支出调整表
G3: 单位：万元
A4: 序号 | B4: 项目 | C4: 年初预算数 | D4: 预计增加 | E4: 预计减少 | F4: 净增加 | G4: 预计年度完成数
A7: 支出总计 | C7: =C8+C28 -> 299372 | D7: =D8+D28 -> 91714 | E7: =E8+E28 -> 21985 | F7: =F8+F28 -> 69729 | G7: =G8+G28 -> 369101
A8: 一、地方一般公共预算支出 | C8: =C9+C13+C14+C22+C27 -> 274162 | D8: =D9+D13+D14+D22+D27 -> 88823 | E8: =E9+E13+E14+E22+E27 -> 21985 | F8: =F9+F13+F14+F22+F27 -> 66838 | G8: =G9+G13+G14+G22+G27 -> 341000
A9: （一） | B9: 国家规定的“三保”支出 | C9: =SUM(C10:C12) -> 230476 | D9: =SUM(D10:D12) -> 11490 | E9: =SUM(E10:E12) -> 17485 | F9: =SUM(F10:F12) -> -5995 | G9: =SUM(G10:G12) -> 224481
A10: 1 | B10: 机关事业单位工资性支出 | C10: 167439 | D10: ='附件2-1 地方一般公共预算支出调整明细表'!C6 -> 1110 | F10: =D10-E10 -> 1110 | G10: =C10+D10-E10 -> 168549
A11: 2 | B11: 公用运转支出 | C11: 10619 | D11: ='附件2-1 地方一般公共预算支出调整明细表'!C7 -> 375 | F11: =D11-E11 -> 375 | G11: =C11+D11-E11 -> 10994
A12: 3 | B12: 基本民生支出 | C12: 52418 | D12: ='附件2-1 地方一般公共预算支出调整明细表'!C8 -> 10005 | E12: ='附件2-1 地方一般公共预算支出调整明细表'!C25 -> 17485 | F12: =D12-E12 -> -7480 | G12: =C12+D12-E12 -> 44938
A13: （二） | B13: 一般债务付息支出 | C13: 2931 | F13: =D13-E13 -> 0 | G13: =C13+D13-E13 -> 2931
A14: （三） | B14: 县级其他支出 | C14: =SUM(C15:C21) -> 27375 | D14: =SUM(D15:D21) -> 3564 | E14: =SUM(E15:E21) -> 2000 | F14: =SUM(F15:F21) -> 1564 | G14: =C14+D14-E14 -> 28939
A15: 1 | B15: 临聘人员支出 | C15: 5431 | F15: =D15-E15 -> 0 | G15: =C15+D15-E15 -> 5431
A16: 2 | B16: 省级以下民生支出类 | C16: 6172 | F16: =D16-E16 -> 0 | G16: =C16+D16-E16 -> 6172
A17: 3 | B17: 县级其他人员支出 | C17: 935 | F17: =D17-E17 -> 0 | G17: =C17+D17-E17 -> 935
A18: 4 | B18: 其他保障经费支出 | C18: 865 | F18: =D18-E18 -> 0 | G18: =C18+D18-E18 -> 865
A19: 5 | B19: 部门业务费 | C19: 2472 | F19: =D19-E19 -> 0 | G19: =C19+D19-E19 -> 2472
A20: 6 | B20: 政府综合目标考核奖 | C20: 11500 | E20: ='附件2-1 地方一般公共预算支出调整明细表'!C48 -> 2000 | F20: =D20-E20 -> -2000 | G20: =C20+D20-E20 -> 9500
A21: 7 | B21: 公务员基础性绩效奖励 | C21: 0 | D21: ='附件2-1 地方一般公共预算支出调整明细表'!C21 -> 3564 | F21: =D21-E21 -> 3564 | G21: =C21+D21-E21 -> 3564
A22: （四） | B22: 预留支出 | C22: =SUM(C23:C26) -> 13380 | D22: =SUM(D23:D26) -> 0 | E22: =SUM(E23:E26) -> 2500 | F22: =SUM(F23:F26) -> -2500 | G22: =SUM(G23:G26) -> 10880
A23: 1 | B23: 预备费 | C23: 3000 | E23: ='附件2-1 地方一般公共预算支出调整明细表'!C49 -> 2500 | F23: =D23-E23 -> -2500 | G23: =C23+D23-E23 -> 500
A24: 2 | B24: 增人增资预留 | C24: 3000 | F24: =D24-E24 -> 0 | G24: =C24+D24-E24 -> 3000
A25: 3 | B25: 成本性支出（非税收入返还） | C25: 3600 | F25: =D25-E25 -> 0 | G25: =C25+D25-E25 -> 3600
A26: 4 | B26: 不可预见性支出 | C26: 3780 | F26: =D26-E26 -> 0 | G26: =C26+D26-E26 -> 3780
A27: （五） | B27: “三保”外上级专款支出 | C27: 0 | D27: 73769 | F27: =D27-E27 -> 73769 | G27: =C27+D27-E27 -> 73769
A28: 二、转移性支出 | C28: =SUM(C29:C31) -> 25210 | D28: =SUM(D29:D31) -> 2891 | E28: =SUM(E29:E31) -> 0 | F28: =SUM(F29:F31) -> 2891 | G28: =SUM(G29:G31) -> 28101
A29: （一） | B29: 债务还本支出 | C29: 18710 | F29: =D29-E29 -> 0 | G29: =C29+D29-E29 -> 18710
A30: （二） | B30: 调入基金预算 | C30: 0 | D30: 1541 | F30: =D30-E30 -> 1541 | G30: =C30+D30-E30 -> 1541
A31: （三） | B31: 上解支出 | C31: 6500 | D31: 1350 | F31: =D31-E31 -> 1350 | G31: =C31+D31-E31 -> 7850

Sheet 附件2-1 地方一般公共预算支出调整明细表
B1: 附件2-2
B2: 2022年一般公共预算支出调整明细表
C3: 单位：万元
B4: 调整项目 | C4: 金额
B5: 预算调增 | C5: =SUM(C6,C7,C8,C21,C22) -> 97103
B6: 1、人员工资支出 | C6: 1110
B7: 2、公用运转支出 | C7: 375
B8: 3、基本民生支出 | C8: =SUM(C9:C20) -> 10005
B9: 农村义务教育学生营养改善计划 | C9: 2367
B10: 学前教育家庭经济困难学生补助 | C10: 85
B11: 普通高中建档立卡家庭经济困难学生免学杂费 | C11: 5
B12: 财政对城镇职工基本医疗保险基金缺口补助 | C12: 28
B13: 城市最低生活保障 | C13: 6043
B14: 自然灾害生活救助（或受灾人员救助） | C14: 111
B15: 高龄老人补助（或老年人福利补贴） | C15: 28
B16: 义务兵家庭优待金 | C16: 40
B17: 军队移交地方政府离退休人员 | C17: 56
B18: 军转干部解困补助 | C18: 39
B19: 机关事业单位职工及军人抚恤补助 | C19: 1012
B20: 防治艾滋病经费 | C20: 191
B21: 4、公务员基础性绩效奖励 | C21: 3564
B22: 5、“三保”外上级专款支出 | C22: =79549+2500 -> 82049
B24: 预算调减 | C24: =SUM(C25,C48,C49,) -> 21985
B25: 1、保基本民生支出 | C25: =SUM(C26:C47) -> 17485
B26: 城乡义务教育中小学公用经费 | C26: 540
B27: 普通高中生均公用经费 | C27: 120
B28: 义务教育家庭经济困难学生生活补助 | C28: 647
B29: 普通高中建档立卡家庭经济困难学生生活费补助 | C29: 21
B30: 中等职业教育学校免学费 | C30: 508
B31: 城乡义务教育学生免教科书费 | C31: 449
B32: 普通高中国家助学金 | C32: 888
B33: 中等职业学校国家助学金 | C33: 202
B34: 城乡居民基本养老保险 | C34: 3829
B35: 农村最低生活保障 | C35: 3572
B36: 特困供养人员（原五保户）补助(或特困人员救助供养) | C36: 1476
B37: 重点优抚对象生活困难补助 | C37: 78
... B49: 3、预备费 | C49: 2500

Sheet 附件3 政府性基金预算收支调整表
A1: 附件3
A2: 2022年政府性基金预算收支调整表
G3: 单位：万元
A4: 序号 | B4: 项目 | C4: 年初预算数 | D4: 预计增加 | E4: 预计减少 | F4: 净增加 | G4: 预计年度完成数
A7: 收入总计 | C7: =C8+C15+C21 -> 72509 | D7: =D8+D15+D21 -> 85752 | E7: =E8+E15+E21 -> 89407 | F7: =F8+F15+F21 -> -3655 | G7: =G8+G15+G21 -> 68854
A8: 一、地方政府性基金收入 | C8: =SUM(C9,C10,C11,C14) -> 70709 | D8: =SUM(D9,D10,D11,D14) -> 0 | E8: =SUM(E9,E10,E11,E14) -> 64893 | F8: =SUM(F9,F10,F11,F14) -> -64893 | G8: =C8+F8 -> 5816
A9: （一） | B9: 国有土地使用权出让收入 | C9: 59481 | E9: 53795 | F9: =D9-E9 -> -53795 | G9: =C9+F9 -> 5686
A10: （二） | B10: 土地储备专项债券项目收入 | C10: 10000 | E10: 10000 | F10: =D10-E10 -> -10000 | G10: =C10+F10 -> 0
A11: （三） | B11: 其他地方自行试点项目收益专项债券对应项目专项收入 | C11: =SUM(C12:C13) -> 888 | D11: =SUM(D12:D13) -> 0 | E11: =SUM(E12:E13) -> 888 | F11: =SUM(F12:F13) -> -888 | G11: =SUM(G12:G13) -> 0
A12: 1 | B12: 中医院整体搬迁建设项目收入 | C12: 590 | E12: 590 | F12: =D12-E12 -> -590 | G12: =C12+F12 -> 0
A13: 2 | B13: 禄劝工业园区农特产品、西柚果汁、野生菌深加工标准化厂房建设项目收入 | C13: 298 | E13: 298 | F13: =D13-E13 -> -298 | G13: =C13+F13 -> 0
A14: （四） | B14: 其他政府性基金收入 | C14: 340 | E14: 210 | F14: =D14-E14 -> -210 | G14: =C14+F14 -> 130
A15: 二、转移性收入 | C15: =SUM(C16:C18) -> 0 | D15: =SUM(D16:D18) -> 35752 | E15: =SUM(E16:E18) -> 0 | F15: =SUM(F16:F18) -> 35752 | G15: =SUM(G16:G18) -> 35752
A16: （一） | B16: 政府性基金补助收入 | C16: 0 | D16: =6390 -> 6390 | F16: =D16-E16 -> 6390 | G16: =C16+D16-E16 -> 6390
A17: （二） | B17: 上年结转结余收入 | C17: 0 | D17: 3407 | F17: =D17-E17 -> 3407 | G17: =C17+D17-E17 -> 3407
A18: （三） | B18: 调入资金 | C18: =SUM(C19:C20) -> 0 | D18: =SUM(D19:D20) -> 25955 | E18: =SUM(E19:E20) -> 0 | F18: =SUM(F19:F20) -> 25955 | G18: =SUM(G19:G20) -> 25955
A19: 1 | B19: 专项债券结余资金调入 | C19: 0 | D19: 24414 | F19: =D19-E19 -> 24414 | G19: =C19+D19-E19 -> 24414
A20: 2 | B20: 一般公共预算调入 | C20: 0 | D20: 1541 | F20: =D20-E20 -> 1541 | G20: =C20+D20-E20 -> 1541
A21: 三、债务转贷收入 | C21: =C22 -> 1800 | D21: =D22 -> 50000 | E21: =E22 -> 24514 | F21: =F22 -> 25486 | G21: =G22 -> 27286
A22: （一） | B22: 地方政府专项债务转贷收入 | C22: =SUM(C23:C25) -> 1800 | D22: 50000 | E22: =100+24414 -> 24514 | F22: =D22-E22 -> 25486 | G22: =C22+D22-E22 -> 27286
A23: 1 | B23: 再融资置换专项债券转贷收入 | C23: 1800 | E23: 100 | F23: =D23-E23 -> -100 | G23: =C23+D23-E23 -> 1700
A24: 2 | B24: 2021年新增专项债券转贷收入 | C24: 0 | D24: 50000 | F24: =D24-E24 -> 50000 | G24: =C24+D24-E24 -> 50000
A25: 3 | B25: 2019年度土地储备专项债券转贷收入 | C25: 0 | E25: 24414 | F25: =D25-E25 -> -24414 | G25: =C25+D25-E25 -> -24414
A26: 支出总计 | C26: =C27+C33 -> 72509 | D26: =D27+D33 -> 85429 | E26: =E27+E33 -> 89084 | F26: =F27+F33 -> -3655 | G26: =G27+G33 -> 68854
A27: 一、地方政府性基金支出 | C27: =SUM(C28:C32) -> 19107 | D27: =SUM(D28:D32) -> 57504 | E27: =SUM(E28:E32) -> 37737 | F27: =SUM(F28:F32) -> 19767 | G27: =SUM(G28:G32) -> 38874
A28: （一） | B28: 地方政府专项债券付息支出 | C28: 3767 | E28: 611 | F28: =D28-E28 -> -611 | G28: =C28+D28-E28 -> 3156
A29: （二） | B29: 国有土地使用权出让收入安排的支出 | C29: 15000 | E29: 12500 | F29: =D29-E29 -> -12500 | G29: =C29+D29-E29 -> 2500
A30: （三） | B30: 其他政府性基金预算支出 | C30: 340 | E30: 212 | F30: =D30-E30 -> -212 | G30: =C30+D30-E30 -> 128
A31: （四） | B31: 新增专项债券项目支出 | D31: 50000 | E31: 24414 | F31: =D31-E31 -> 25586 | G31: =C31+D31-E31 -> 25586
A32: （五） | B32: 上级专款支出 | D32: 7504 | F32: =D32-E32 -> 7504 | G32: =C32+D32-E32 -> 7504
A33: 二、转移性支出 | C33: =SUM(C34:C37) -> 53402 | D33: =SUM(D34:D37) -> 27925 | E33: =SUM(E34:E37) -> 51347 | F33: =SUM(F34:F37) -> -23422 | G33: =SUM(G34:G37) -> 29980
A34: （一） | B34: 专项债务还本支出 | C34: 2055 | F34: =D34-E34 -> 0 | G34: =C34+D34-E34 -> 2055
A35: （二） | B35: 政府性基金上解支出 | D35: 24414 | F35: =D35-E35 -> 24414 | G35: =C35+D35-E35 -> 24414
A36: （三） | B36: 调入一般公共预算 | C36: 51347 | E36: 51347 | F36: =D36-E36 -> -51347 | G36: =C36+D36-E36 -> 0
A37: （四） | B37: 结转结余 | C37: 0 | D37: 3511 | F37: =D37-E37 -> 3511 | G37: =C37+F37 -> 3511

Sheet 附件4 国有资本经营预算收支调整表
A1: 附件4
A2: 2022年国有资本经营收支调整表
G3: 单位：万元
A4: 序号 | B4: 项目 | C4: 年初预算数 | D4: 预计增加 | E4: 预计减少 | F4: 净增加 | G4: 预计年度完成数
A7: 收入总计 | C7: =SUM(C8,C10) -> 300 | D7: =SUM(D8,D10) -> 30 | E7: =SUM(E8,E10) -> 300 | F7: =SUM(F8,F10) -> -270 | G7: =SUM(G8,G10) -> 30
A8: 一 | B8: 本级收入 | C8: =SUM(C9) -> 300 | D8: =SUM(D9) -> 0 | E8: =SUM(E9) -> 300 | F8: =SUM(F9) -> -300 | G8: =SUM(G9) -> 0
A9: （一） | B9: 国有资本经营收入 | C9: 300 | E9: 300 | F9: =D9-E9 -> -300 | G9: =C9+D9-E9 -> 0
A10: 二、 | B10: 转移性收入 | C10: =SUM(C11:C12) -> 0 | D10: =SUM(D11:D12) -> 30 | E10: =SUM(E11:E12) -> 0 | F10: =SUM(F11:F12) -> 30 | G10: =SUM(G11:G12) -> 30
A11: （一） | B11: 上级补助补助收入 | D11: 13 | F11: =D11-E11 -> 13 | G11: =C11+D11-E11 -> 13
A12: （二） | B12: 上年结转结余收入 | D12: 17 | F12: =D12-E12 -> 17 | G12: =C12+D12-E12 -> 17
A13: 支出总计 | C13: =C14+C16 -> 300 | D13: =D14+D16 -> 30 | E13: =E14+E16 -> 300 | F13: =F14+F16 -> -270 | G13: =G14+G16 -> 30
A14: 一、本级支出 | C14: =SUM(C15:C15) -> 0 | D14: =SUM(D15:D15) -> 2 | E14: =SUM(E15:E15) -> 0 | F14: =SUM(F15:F15) -> 2 | G14: =SUM(G15:G15) -> 2
A15: （一） | B15: 国有资本经营支出 | C15: 0 | D15: 2 | E15: 0 | F15: =D15-E15 -> 2 | G15: =C15+D15-E15 -> 2
A16: 二、转移性支出 | C16: =SUM(C17:C18) -> 300 | D16: =SUM(D17:D18) -> 28 | E16: =SUM(E17:E18) -> 300 | F16: =SUM(F17:F18) -> -272 | G16: =SUM(G17:G18) -> 28
A17: （一） | B17: 调入一般公共预算 | C17: 300 | E17: 300 | F17: =D17-E17 -> -300 | G17: =C17+D17-E17 -> 0
A18: （二） | B18: 结转结余 | D18: 28 | E18: 0 | F18: =D18-E18 -> 28 | G18: =C18+D18-E18 -> 28

Sheet 附件5 2022年度“三保”支出调整表
A1: 附件5
A2: 2022年度“三保”支出调整表
D3: 单位：万元
A4: “三保”支出保障分类 | B4: 年初测算 | C4: 调整金额 | D4: 调整后需求
A5: 合计 | B5: =B6+B7+B8 -> 233780.27 | C5: =C6+C7+C8 -> -14462.668 | D5: =D6+D7+D8 -> 224481.95
A6: 80101 人员工资支出 | B6: 163935 | C6: -550.3487 | D6: 168549
A7: 80102 公用运转支出 | B7: 12170 | C7: =10994-B7 -> -1176 | D7: =B7+C7 -> 10994
A8: 80103 基本民生支出 | B8: =SUM(B9:B44) -> 57675.273 | C8: =SUM(C9:C44) -> -12736.32 | D8: =SUM(D9:D44) -> 44938.953
A9: 8010301 城乡义务教育中小学公用经费 | B9: 4141.53 | C9: -550.3487 | D9: 3591.1813
A10: 8010302 普通高中生均公用经费 | B10: 1202.7 | C10: -120.00799 | D10: 1082.692
A11: 8010303 农村义务教育学生营养改善计划 | B11: 3697.8 | C11: 2387.7904 | D11: 6085.5904
A12: 8010304 学前教育家庭经济困难学生补助 | B12: 237 | C12: 75.791139 | D12: 312.79114
A13: 8010305 义务教育家庭经济困难学生生活补助 | B13: 2522.85 | C13: -646.74038 | D13: 1876.1096
A14: 8010307 普通高中建档立卡家庭经济困难学生生活费补助 | B14: 363.5 | C14: -20.192 | D14: 343.308
A15: 8010308 普通高中建档立卡家庭经济困难学生免学杂费 | B15: 169.398 | C15: -41.5998 | D15: 127.7982
A16: 8010309 中等职业教育学校免学费 | B16: 795 | C16: -507.9558 | D16: 287.0442
A17: 8010310 城乡义务教育学生免教科书费 | B17: 445.959 | C17: -445.959 | D17: 0
A18: 8010311 普通高中国家助学金 | B18: 1128.9 | C18: -887.5388 | D18: =B18+C18 -> 241.3612
A19: 8010312 中等职业学校国家助学金 | B19: 506.4 | C19: -202.5288 | D19: 303.8712
A20: 8010313 耕地地力保护补贴 | B20: 4971 | C20: -4971 | D20: 0
A21: 8010314 城乡居民基本医疗保险 | B21: 998.9474 | C21: 0 | D21: 998.9474
A22: 8010315 城乡居民基本养老保险 | B22: 13035.448 | C22: -4096.958 | D22: 8938.49
A23: 8010316财政对城镇职工基本医疗保险基金缺口补助 | B23: 27.5973 | C23: 0 | D23: 27.5973
A24: 8010320 城市最低生活保障 | B24: 279.584 | C24: 6041.8694 | D24: =B24+C24 -> 6321.4534
A25: 8010321 农村最低生活保障 | B25: 5923.9439 | C25: -3615.3539 | D25: 2308.59
A26: 8010322 特困供养人员（原五保户）补助(或特困人员救助供养) | B26: 1795.3823 | C26: -1756.0223 | D26: 39.36
A27: 8010323 重点优抚对象生活困难补助 | B27: 271.4 | C27: -77.18923 | D27: 194.21077
A28: 8010324 “两参”烈属老红军老党员等部分优抚对象抚恤和生活补助 | B28: 4189.4788 | C28: -1472.1298 | D28: 2717.349
A29: 8010325 城乡医疗救助 | B29: 340.383 | C29: -243.183 | D29: 97.2
A30: 8010326 临时救助 | B30: 1950 | C30: -1615.2123 | D30: =B30+C30 -> 334.7877
A31: 8010327 自然灾害生活救助（或受灾人员救助） | B31: 200 | C31: 111 | D31: 311
A32: 8010328 流浪乞讨人员救助 | B32: 15 | C32: -15 | D32: 0
A33: 8010329 孤儿基本生活保障 | B33: 244.56 | C33: -220.48 | D33: 24.08
A34: 8010330 困难残疾人生活补贴和重度残疾人护理补贴 | B34: 890.172 | C34: =-45.47+72.2 -> 26.73 | D34: =B34+C34 -> 916.902
A35: 8010331 高龄老人补助（或老年人福利补贴） | B35: 868.464 | C35: 50.286 | D35: =B35+C35 -> 918.75
A36: 8010332 义务兵家庭优待金 | B36: 375.75 | C36: 40.25044 | D36: 416.00044
A37: 8010333 自主就业退役士兵一次性经济补助 | B37: 1360 | C37: -1163.71 | D37: 196.29
A38: 8010334 军队移交地方政府离退休人员 | B38: 0 | C38: 55.809854 | D38: 55.809854
A39: 8010335 军转干部解困补助 | B39: 0 | C39: 38.628168 | D39: 38.628168
A40: 8010336 企业退休人员计划生育奖励 | B40: 93.5 | C40: 0 | D40: 93.5
...
